Workbook
Name ISFOXLabelingDefaultPosition: "FooterMiddle"
Name Print_Titles1: 'VP Food'!$1:$16

Sheet VP Food
A1: ООО "Профгигиена" | D1: Комментарии по статусу: Новинка - позиция, введенная в ассортимент в течение последних 6 мес. Хит-Продаж - самые популярные продукты Vileda Professional. Акция - позиция, на которую в данный момент действуют условия промо-акции. Подробные условия текущих акций смотрите на сайте компании, а также узнавайте детали у вашего менеджера. Сроки акций ограничены. Распродажа - позиция, которая в ближайшее время будет выведена из ассортимента или переведена в статус "Под заказ". Действует до окончания продукции на складе. Под заказ - позиция, которая есть на складе в минимальном объеме после единоразовой поставки или которой нет в наличии на постоянной основе. Средний срок поставки при отсутствии товара на складе: 6-8 недель. Цены на продукты с пометкой "Под заказ" указаны по состоянию на текущий момент. Актуальную цену и наличие товара на складе уточняйте у вашего менеджера Vileda Professional.
A2: г. Москва, ул. Мневники, 1
A3: 8 (926) 522-94-91
A9: ПРАЙС-ЛИСТ НА ПРОДУКЦИЮ VILEDA PROFESSIONAL
A10: Ассортимент для пищевых производств, санаторно-курортных и других объектов
A11: 45689 | C11: обновлено 20 января 2025
A12: GUID | B12: 6d58ba6f-6807-4891-a180-51867c2dd2bb
A13: NAME | B13: FOOD
A14: DATE | B14: =A11 -> 45689
A16: Артикул SAP | B16: Изображение | C16: Название продукции | D16: Статус | E16: Цвет / Другое | F16: Размер / Объем | G16: шт.ук в уп. | H16: Уп в кор. | I16: Рек. цена за шт, с НДС | J16: Назначение | K16: Категория
A17: ПРОТИРКА ПОВЕРХНОСТЕЙ
A18: Салфетки из микроволокна
A19: Многоразовые
A20: 170635 | C20: Салфетка р-МикронКвик, синий (вместо арт. 152109) | D20: Хит-Продаж! | E20: синий | F20: 40х38 см | G20: 5 | H20: 20 | I20: 569 | J20: Ежедневная очистка поверхностей от загрязнений, от отпечатков пальцев, бактерий и вирусов; чистовая (финишная) протирка. Любые гладкие поверхности: зеркальные, стеклянные, хромированные, стальные, глянцевые, керамические, полированные, деликатные. | K20: Салфетки
A21: 170636 | C21: Салфетка р-МикронКвик, красный (вместо арт. 152110) | D21: Хит-Продаж! | E21: красный | F21: 40х38 см | G21: 5 | H21: 20 | I21: 569 | J21: Ежедневная очистка поверхностей от загрязнений, от отпечатков пальцев, бактерий и вирусов; чистовая (финишная) протирка. Любые гладкие поверхности: зеркальные, стеклянные, хромированные, стальные, глянцевые, керамические, полированные, деликатные. | K21: Салфетки
A22: 170638 | C22: Салфетка р-МикронКвик, желтый (вместо арт. 152111) | D22: Хит-Продаж! | E22: желтый | F22: 40х38 см | G22: 5 | H22: 20 | I22: 569 | J22: Ежедневная очистка поверхностей от загрязнений, от отпечатков пальцев, бактерий и вирусов; чистовая (финишная) протирка. Любые гладкие поверхности: зеркальные, стеклянные, хромированные, стальные, глянцевые, керамические, полированные, деликатные. | K22: Салфетки
A23: 170637 | C23: Салфетка р-МикронКвик, зеленый (вместо арт. 152112) | D23: Хит-Продаж! | E23: зеленый | F23: 40х38 см | G23: 5 | H23: 20 | I23: 569 | J23: Ежедневная очистка поверхностей от загрязнений, от отпечатков пальцев, бактерий и вирусов; чистовая (финишная) протирка. Любые гладкие поверхности: зеркальные, стеклянные, хромированные, стальные, глянцевые, керамические, полированные, деликатные. | K23: Салфетки
A24: 128425 | C24: Салфетка ТиТауэл Микро, белый/синий | E24: белый/синий | F24: 60х40 см | G24: 3 | H24: 30 | I24: 979 | J24: Протирка, осушение, полировка бокалов, тарелок, столовых приборов и глянцевых поверхностей на предприятиях общественного питания, таких как рестораны, бары, кафе и столовые. Типы поверхностей: стеклянные, хрустальные, керамические, фарфоровые, зеркальные, хромированные, глянцевые, полированные, деликатные. | K24: Салфетки
A25: 143590 | C25: Салфетка ПВАмикро, синий | D25: Хит-Продаж! | E25: синий | F25: 38х35 см | G25: 5 | H25: 20 | I25: 499 | J25: Ежедневная универсальная очистка поверхностей большой площади; чистовая (финишная) протирка. Убирает пыль, сор, бактерии, вирусы, жидкости, отпечатки пальцев, известковый налет. Любые поверхности, включая глянцевые, сантехнические краны, мониторы и электроприборы. | K25: Салфетки
A26: 143591 | C26: Салфетка ПВАмикро, красный | D26: Хит-Продаж! | E26: красный | F26: 38х35 см | G26: 5 | H26: 20 | I26: 499 | J26: Ежедневная универсальная очистка поверхностей большой площади; чистовая (финишная) протирка. Убирает пыль, сор, бактерии, вирусы, жидкости, отпечатки пальцев, известковый налет. Любые поверхности, включая глянцевые, сантехнические краны, мониторы и электроприборы. | K26: Салфетки
A27: 143592 | C27: Салфетка ПВАмикро, желтый | D27: Хит-Продаж! | E27: желтый | F27: 38х35 см | G27: 5 | H27: 20 | I27: 499 | J27: Ежедневная универсальная очистка поверхностей большой площади; чистовая (финишная) протирка. Убирает пыль, сор, бактерии, вирусы, жидкости, отпечатки пальцев, известковый налет. Любые поверхности, включая глянцевые, сантехнические краны, мониторы и электроприборы. | K27: Салфетки
A28: 143593 | C28: Салфетка ПВАмикро, зеленый | D28: Хит-Продаж! | E28: зеленый | F28: 38х35 см | G28: 5 | H28: 20 | I28: 499 | J28: Ежедневная универсальная очистка поверхностей большой площади; чистовая (финишная) протирка. Убирает пыль, сор, бактерии, вирусы, жидкости, отпечатки пальцев, известковый налет. Любые поверхности, включая глянцевые, сантехнические краны, мониторы и электроприборы. | K28: Салфетки
A29: 174046 | C29: Салфетка ПУРмикро Актив, синий | D29: Новинка! | E29: синий | F29: 38х35 см | G29: 5 | H29: 20 | I29: 329 | J29: Ежедневная универсальная очистка любых поверхностей. Убирает пыль, сор, жировые загрязнения, бактерии, вирусы, впитывает жидкости. | K29: Салфетки
A30: 174048 | C30: Салфетка ПУРмикро Актив, красный | D30: Новинка! | E30: красный | F30: 38х35 см | G30: 5 | H30: 20 | I30: 329 | J30: Ежедневная универсальная очистка любых поверхностей. Убирает пыль, сор, жировые загрязнения, бактерии, вирусы, впитывает жидкости. | K30: Салфетки
A31: 174072 | C31: Салфетка ПУРмикро Актив, желтый | D31: Новинка! | E31: желтый | F31: 38х35 см | G31: 5 | H31: 20 | I31: 329 | J31: Ежедневная универсальная очистка любых поверхностей. Убирает пыль, сор, жировые загрязнения, бактерии, вирусы, впитывает жидкости. | K31: Салфетки
A32: 174070 | C32: Салфетка ПУРмикро Актив, зеленый | D32: Новинка! | E32: зеленый | F32: 38х35 см | G32: 5 | H32: 20 | I32: 329 | J32: Ежедневная универсальная очистка любых поверхностей. Убирает пыль, сор, жировые загрязнения, бактерии, вирусы, впитывает жидкости. | K32: Салфетки
A33: 174044 | C33: Салфетка ПУРмикро Актив, серый | D33: Новинка! | E33: серый | F33: 38х35 см | G33: 5 | H33: 20 | I33: 329 | J33: Ежедневная универсальная очистка любых поверхностей. Убирает пыль, сор, жировые загрязнения, бактерии, вирусы, впитывает жидкости. | K33: Салфетки
A34: 174192 | C34: Салфетка р-МикроТафф Плюс, синий (вместо арт. 169918) | D34: Новый артикул! | E34: синий | F34: 38х38 см | G34: 5 | H34: 20 | I34: 479 | J34: Очистка поверхностей, генеральная уборка, сбор мусора, пыли и грязи. В сухом виде - удаление отпечатков пальцев и жира; полировка хрома, металла, глянца, камня; полировка после нанесения химии для защиты поверхностей; сбор мусора в номерах перед влажной протиркой. Любые поверхности, сильнозагрязненные участки. | K34: Салфетки
A35: 174201 | C35: Салфетка р-МикроТафф Плюс, красный (вместо арт. 169925) | D35: Новый артикул! | E35: красный | F35: 38х38 см | G35: 5 | H35: 20 | I35: 479 | J35: Очистка поверхностей, генеральная уборка, сбор мусора, пыли и грязи. В сухом виде - удаление отпечатков пальцев и жира; полировка хрома, металла, глянца, камня; полировка после нанесения химии для защиты поверхностей; сбор мусора в номерах перед влажной протиркой. Любые поверхности, сильнозагрязненные участки. | K35: Салфетки
A36: 174205 | C36: Салфетка р-МикроТафф Плюс, желтый (вместо арт. 169923) | D36: Новый артикул! | E36: желтый | F36: 38х38 см | G36: 5 | H36: 20 | I36: 479 | J36: Очистка поверхностей, генеральная уборка, сбор мусора, пыли и грязи. В сухом виде - удаление отпечатков пальцев и жира; полировка хрома, металла, глянца, камня; полировка после нанесения химии для защиты поверхностей; сбор мусора в номерах перед влажной протиркой. Любые поверхности, сильнозагрязненные участки. | K36: Салфетки
... A41: 174180 | C41: Салфетка р-МикроТафф Бэйс, зеленый (вместо арт. 169911) | D41: Новый артикул! | E41: зеленый | F41: 36х36 см | G41: 5 | H41: 20 | I41: 219 | J41: Ежедневная очистка поверхностей, сбор мусора, пыли и грязи. В сухом виде - удаление отпечатков пальцев и жира. Любые поверхности, сильнозагрязненные участки. | K41: Салфетки
A42: Одноразовые и краткосрочные
A43: 166866 | C43: Салфетка МикронРолл СейфПлюс Мини в рулоне, синий (цена за отрыв) | E43: синий | F43: 30х28 см | G43: 30 | H43: 10 | I43: 24 | J43: Ежедневная протирка, уборка бактерий и вирусов, а также дезинфекция поверхностей. Дополнительная протирка в период эпидемий. Подходят для любых объектов, включая режимные и с высокими требованиями к гигиене. Используются с диспенсером СейфПлюс Мини. Одноразовые. | K43: Салфетки одноразовые
A44: 166870 | C44: Салфетка МикронРолл СейфПлюс Мини в рулоне, красный (цена за отрыв) | E44: красный | F44: 30х28 см | G44: 30 | H44: 10 | I44: 24 | J44: Ежедневная протирка, уборка бактерий и вирусов, а также дезинфекция поверхностей. Дополнительная протирка в период эпидемий. Подходят для любых объектов, включая режимные и с высокими требованиями к гигиене. Используются с диспенсером СейфПлюс Мини. Одноразовые. | K44: Салфетки одноразовые
A45: 166872 | C45: Салфетка МикронРолл СейфПлюс Мини в рулоне, желтый (цена за отрыв) | E45: желтый | F45: 30х28 см | G45: 30 | H45: 10 | I45: 24 | J45: Ежедневная протирка, уборка бактерий и вирусов, а также дезинфекция поверхностей. Дополнительная протирка в период эпидемий. Подходят для любых объектов, включая режимные и с высокими требованиями к гигиене. Используются с диспенсером СейфПлюс Мини. Одноразовые. | K45: Салфетки одноразовые
A46: 166868 | C46: Салфетка МикронРолл СейфПлюс Мини в рулоне, зеленый (цена за отрыв) | E46: зеленый | F46: 30х28 см | G46: 30 | H46: 10 | I46: 24 | J46: Ежедневная протирка, уборка бактерий и вирусов, а также дезинфекция поверхностей. Дополнительная протирка в период эпидемий. Подходят для любых объектов, включая режимные и с высокими требованиями к гигиене. Используются с диспенсером СейфПлюс Мини. Одноразовые. | K46: Салфетки одноразовые
A47: 166876 | C47: Диспенсер СейфПлюс Мини. Салфетки МикронРолл СейфПлюс Мини в рулоне, синий, 1 уп - в подарок! | E47: серо-голубой | F47: 11х10,5х27 см | G47: 1 | H47: 4 | I47: 7299 | J47: Используется с микроволоконными салфетками МикронРолл СейфПлюс Мини в рулонах для протирки и дезинфекции поверхностей. Совместимы с тележками Ориго 2, УльтраСпид Мини, а также могут размещаться в любом другом удобном месте. | K47: Салфетки одноразовые
A48: 166914 | C48: Салфетка МикронРолл СейфПлюс Макси в рулоне, синий (цена за отрыв) | E48: синий | F48: 30х28 см | G48: 120 | H48: 6 | I48: 20 | J48: Ежедневная протирка, уборка бактерий и вирусов, а также дезинфекция поверхностей. Дополнительная протирка в период эпидемий. Подходят для любых объектов, включая режимные и с высокими требованиями к гигиене. Используются с диспенсером СейфПлюс Макси. Одноразовые. | K48: Салфетки одноразовые
A49: 166916 | C49: Салфетка МикронРолл СейфПлюс Макси в рулоне, красный (цена за отрыв) | E49: красный | F49: 30х28 см | G49: 120 | H49: 6 | I49: 20 | J49: Ежедневная протирка, уборка бактерий и вирусов, а также дезинфекция поверхностей. Дополнительная протирка в период эпидемий. Подходят для любых объектов, включая режимные и с высокими требованиями к гигиене. Используются с диспенсером СейфПлюс Макси. Одноразовые. | K49: Салфетки одноразовые
A50: 166917 | C50: Салфетка МикронРолл СейфПлюс Макси в рулоне, желтый (цена за отрыв) | E50: желтый | F50: 30х28 см | G50: 120 | H50: 6 | I50: 20 | J50: Ежедневная протирка, уборка бактерий и вирусов, а также дезинфекция поверхностей. Дополнительная протирка в период эпидемий. Подходят для любых объектов, включая режимные и с высокими требованиями к гигиене. Используются с диспенсером СейфПлюс Макси. Одноразовые. | K50: Салфетки одноразовые
...

Sheet Страны, ТНВЭД
A1: Артикул | B1: Страна | C1: Страна | D1: ТНВЭД
A2: 170635 | B2: IT | C2: Италия с 08.2023 | D2: 5603139000 | E2: =VLOOKUP(A2,'VP Food'!A:B,1,0) -> 170635
A3: 170636 | B3: IT | C3: Италия с 08.2023 | D3: 5603139000 | E3: =VLOOKUP(A3,'VP Food'!A:B,1,0) -> 170636
A4: 170638 | B4: IT | C4: Италия с 08.2023 | D4: 5603139000 | E4: =VLOOKUP(A4,'VP Food'!A:B,1,0) -> 170638
A5: 170637 | B5: IT | C5: Италия с 08.2023 | D5: 5603139000 | E5: =VLOOKUP(A5,'VP Food'!A:B,1,0) -> 170637
A6: 128425 | B6: FR | C6: Франция | D6: 5603149000 | E6: =VLOOKUP(A6,'VP Food'!A:B,1,0) -> 128425
A7: 143590 | B7: NL | C7: Нидерланды | D7: 5903901000 | E7: =VLOOKUP(A7,'VP Food'!A:B,1,0) -> 143590
A8: 143591 | B8: NL | C8: Нидерланды | D8: 5903901000 | E8: =VLOOKUP(A8,'VP Food'!A:B,1,0) -> 143591
A9: 143592 | B9: NL | C9: Нидерланды | D9: 5903901000 | E9: =VLOOKUP(A9,'VP Food'!A:B,1,0) -> 143592
A10: 143593 | B10: NL | C10: Нидерланды | D10: 5903901000 | E10: =VLOOKUP(A10,'VP Food'!A:B,1,0) -> 143593
A11: 174046 | B11: CN | C11: Китай | D11: 5903901000 | E11: =VLOOKUP(A11,'VP Food'!A:B,1,0) -> 174046
A12: 174048 | B12: CN | C12: Китай | D12: 5903901000 | E12: =VLOOKUP(A12,'VP Food'!A:B,1,0) -> 174048
A13: 174072 | B13: CN | C13: Китай | D13: 5903901000 | E13: =VLOOKUP(A13,'VP Food'!A:B,1,0) -> 174072
... A234: 160559 | B234: TR | C234: Турция | D234: 7616999008 | E234: =VLOOKUP(A234,'VP Food'!A:B,1,0) -> 160559
A235: 160559 брендированные | B235: TR | C235: Турция | D235: 7616999008 | E235: =VLOOKUP(A235,'VP Food'!A:B,1,0) -> 160559 брендированные
A236: 160557 | B236: TR | C236: Турция | D236: 7616999008 | E236: =VLOOKUP(A236,'VP Food'!A:B,1,0) -> 160557
A237: 160557 брендированные | B237: TR | C237: Турция | D237: 7616999008 | E237: =VLOOKUP(A237,'VP Food'!A:B,1,0) -> 160557 брендированные
A238: 534459 | B238: IT | C238: Италия | D238: 3926909709 | E238: =VLOOKUP(A238,'VP Food'!A:B,1,0) -> 534459
A239: 534436 | B239: IT | C239: Италия | D239: 3926909709 | E239: =VLOOKUP(A239,'VP Food'!A:B,1,0) -> 534436
A240: 534458 | B240: IT | C240: Италия | D240: 3926909709 | E240: =VLOOKUP(A240,'VP Food'!A:B,1,0) -> 534458
A241: 160681 | B241: CZ | C241: Чехия | D241: 3926909709 | E241: =VLOOKUP(A241,'VP Food'!A:B,1,0) -> 160681
A242: 514792 | B242: RU | C242: Россия | D242: 6307909800 | E242: =VLOOKUP(A242,'VP Food'!A:B,1,0) -> 514792
A243: 120820 | B243: IT | C243: Италия | D243: 7326909807 | E243: =VLOOKUP(A243,'VP Food'!A:B,1,0) -> 120820
A244: 120810 | B244: IT | C244: Италия | D244: 3926909709 | E244: =VLOOKUP(A244,'VP Food'!A:B,1,0) -> 120810
A245: 120809 | B245: IT | C245: Италия | D245: 3926909709 | E245: =VLOOKUP(A245,'VP Food'!A:B,1,0) -> 120809
A246: 145150 | B246: RU | C246: Россия | D246: 8716800000 | E246: =VLOOKUP(A246,'VP Food'!A:B,1,0) -> 145150
A247: 145117 | B247: RU | C247: Россия | D247: 8716800000 | E247: =VLOOKUP(A247,'VP Food'!A:B,1,0) -> 145117
A248: 145119 | B248: RU | C248: Россия | D248: 8716800000 | E248: =VLOOKUP(A248,'VP Food'!A:B,1,0) -> 145119
A249: 143731 | B249: RU | C249: Россия | D249: 6307909800 | E249: =VLOOKUP(A249,'VP Food'!A:B,1,0) -> 143731
... A260: 509265 | B260: IT | C260: Италия | D260: 3926909709 | E260: =VLOOKUP(A260,'VP Food'!A:B,1,0) -> 509265
A261: 513239 | B261: RU | C261: Россия | D261: - | E261: =VLOOKUP(A261,'VP Food'!A:B,1,0) -> 513239
A262: 509264 | B262: IT | C262: Италия | D262: 3926909709 | E262: =VLOOKUP(A262,'VP Food'!A:B,1,0) -> 509264
A263: 166390 | B263: RU | C263: Россия | D263: 9603909900 | E263: =VLOOKUP(A263,'VP Food'!A:B,1,0) -> 166390
A264: 100813 | B264: IT | C264: Италия | D264: 9603909900 | E264: =VLOOKUP(A264,'VP Food'!A:B,1,0) -> 100813
A265: 100812 | B265: IT | C265: Италия | D265: 9603909900 | E265: =VLOOKUP(A265,'VP Food'!A:B,1,0) -> 100812
A266: 500208 | B266: IT | C266: Италия | D266: 6307109000 | E266: =VLOOKUP(A266,'VP Food'!A:B,1,0) -> 500208
A267: 500207 | B267: IT | C267: Италия | D267: 6307109000 | E267: =VLOOKUP(A267,'VP Food'!A:B,1,0) -> 500207
A268: 500210 | B268: IT | C268: Италия | D268: 9603909900 | E268: =VLOOKUP(A268,'VP Food'!A:B,1,0) -> 500210
A269: 500209 | B269: IT | C269: Италия | D269: 9603909900 | E269: =VLOOKUP(A269,'VP Food'!A:B,1,0) -> 500209
A270: 500117 | B270: IT | C270: Италия | D270: 7616999008 | E270: =VLOOKUP(A270,'VP Food'!A:B,1,0) -> 500117
...
